BEGIN:VCALENDAR
VERSION:2.0
PRODID:-//ical.marudot.com//iCal Event Maker
CALSCALE:GREGORIAN
BEGIN:VTIMEZONE
TZID:America/Toronto
LAST-MODIFIED:20250410T142247Z
TZURL:https://www.tzurl.org/zoneinfo-outlook/America/Toronto
X-LIC-LOCATION:America/Toronto
BEGIN:DAYLIGHT
TZNAME:EDT
TZOFFSETFROM:-0500
TZOFFSETTO:-0400
DTSTART:19700308T020000
RRULE:FREQ=YEARLY;BYMONTH=3;BYDAY=2SU
END:DAYLIGHT
BEGIN:STANDARD
TZNAME:EST
TZOFFSETFROM:-0400
TZOFFSETTO:-0500
DTSTART:19701101T020000
RRULE:FREQ=YEARLY;BYMONTH=11;BYDAY=1SU
END:STANDARD
END:VTIMEZONE
BEGIN:VEVENT
DTSTAMP:20260307T065234Z
UID:1772851587077-95461@ical.marudot.com
DTSTART;TZID=America/Toronto:20260101T000000
DTEND;TZID=America/Toronto:20260101T030000
SUMMARY:BALL DROP WOOO
END:VEVENT
BEGIN:VEVENT
DTSTAMP:20260307T065234Z
UID:1772851602581-77616@ical.marudot.com
DTSTART;TZID=America/Toronto:20260101T090000
DTEND;TZID=America/Toronto:20260101T120000
SUMMARY:hangoverrrrrr
END:VEVENT
BEGIN:VEVENT
DTSTAMP:20260307T065234Z
UID:1772851638767-77382@ical.marudot.com
DTSTART;TZID=America/Toronto:20260102T090000
DTEND;TZID=America/Toronto:20260102T104500
SUMMARY:dennys trippppp
END:VEVENT
BEGIN:VEVENT
DTSTAMP:20260307T065234Z
UID:1772851499703-99730@ical.marudot.com
DTSTART;TZID=America/Toronto:20260105T090000
RRULE:FREQ=WEEKLY;BYDAY=MO;COUNT=3
DTEND;TZID=America/Toronto:20260105T123000
SUMMARY:Shift at work
END:VEVENT
BEGIN:VEVENT
DTSTAMP:20260307T065234Z
UID:1772850780465-12877@ical.marudot.com
DTSTART;TZID=America/Toronto:20260107T140000
DTEND;TZID=America/Toronto:20260107T163000
SUMMARY:VOLLEYBALL.
END:VEVENT
BEGIN:VEVENT
DTSTAMP:20260307T065234Z
UID:1772851683468-36941@ical.marudot.com
DTSTART;VALUE=DATE:20260110
DTEND;VALUE=DATE:20260111
SUMMARY:Cancel subscriptions
END:VEVENT
BEGIN:VEVENT
DTSTAMP:20260307T065234Z
UID:1772850745673-62078@ical.marudot.com
DTSTART;TZID=America/Toronto:20260114T120000
DTEND;TZID=America/Toronto:20260114T130000
SUMMARY:Coffee with Steve
END:VEVENT
BEGIN:VEVENT
DTSTAMP:20260307T065234Z
UID:1772851260149-40237@ical.marudot.com
DTSTART;TZID=America/Toronto:20260120T130000
DTEND;TZID=America/Toronto:20260120T180000
SUMMARY:STUDY SESSION
DESCRIPTION:Time to LOCK IN
END:VEVENT
BEGIN:VEVENT
DTSTAMP:20260307T065234Z
UID:1772851213060-36906@ical.marudot.com
DTSTART;TZID=America/Toronto:20260123T200000
DTEND;TZID=America/Toronto:20260123T223000
SUMMARY:Furniture shopping
LOCATION:IKEA
END:VEVENT
BEGIN:VEVENT
DTSTAMP:20260307T065234Z
UID:1772849871069-92153@ical.marudot.com
DTSTART;TZID=America/Toronto:20260124T193000
DTEND;TZID=America/Toronto:20260124T220000
SUMMARY:SHOWTIME
DESCRIPTION:I'm SO excited for this concert AAAAAAAAA
LOCATION:Center In The Square
END:VEVENT
BEGIN:VEVENT
DTSTAMP:20260307T065234Z
UID:1772851358454-83105@ical.marudot.com
DTSTART;TZID=America/Toronto:20260126T090000
RRULE:FREQ=WEEKLY;BYDAY=MO;COUNT=8
DTEND;TZID=America/Toronto:20260126T123000
SUMMARY:Get that MONEY\, MONEY\, MONEY!
LOCATION:Arrival
END:VEVENT
BEGIN:VEVENT
DTSTAMP:20260307T065234Z
UID:1772849932615-97175@ical.marudot.com
DTSTART;TZID=America/Toronto:20260127T180000
DTEND;TZID=America/Toronto:20260127T220000
SUMMARY:Doin' what my mamma said...
LOCATION:Waterloo
END:VEVENT
BEGIN:VEVENT
DTSTAMP:20260307T065234Z
UID:1772850011968-75338@ical.marudot.com
DTSTART;TZID=America/Toronto:20260129T160000
RRULE:FREQ=WEEKLY;BYDAY=TH;COUNT=8
DTEND;TZID=America/Toronto:20260129T173000
SUMMARY:DANCE (WHILE THE MUSIC STILL GOES ON)
LOCATION:Waterloo
END:VEVENT
BEGIN:VEVENT
DTSTAMP:20260307T065234Z
UID:1772848367994-41286@ical.marudot.com
DTSTART;TZID=America/Toronto:20260130T120000
DTEND;TZID=America/Toronto:20260130T140000
SUMMARY:Fernando <3
LOCATION:Arrival
END:VEVENT
BEGIN:VEVENT
DTSTAMP:20260307T065234Z
UID:1772851019328-88068@ical.marudot.com
DTSTART;TZID=America/Toronto:20260201T104500
DTEND;TZID=America/Toronto:20260201T111500
SUMMARY:Picking up The Visitors from the airport
LOCATION:The Visitors
END:VEVENT
BEGIN:VEVENT
DTSTAMP:20260307T065234Z
UID:1772850104675-24340@ical.marudot.com
DTSTART;TZID=America/Toronto:20260201T120000
DTEND;TZID=America/Toronto:20260201T163000
SUMMARY:Visit to Merry-Go-Round
LOCATION:Ring Ring
END:VEVENT
BEGIN:VEVENT
DTSTAMP:20260307T065234Z
UID:1772850971358-40063@ical.marudot.com
DTSTART;TZID=America/Toronto:20260214T183000
DTEND;TZID=America/Toronto:20260214T211500
SUMMARY:Watching Bumblebee movie
LOCATION:Voyage
END:VEVENT
BEGIN:VEVENT
DTSTAMP:20260307T065234Z
UID:1772850867103-98246@ical.marudot.com
DTSTART;VALUE=DATE:20260217
DTEND;VALUE=DATE:20260218
SUMMARY:HAPPY NEW YEAR
LOCATION:Super Trouper
END:VEVENT
BEGIN:VEVENT
DTSTAMP:20260307T065234Z
UID:1772850918537-78962@ical.marudot.com
DTSTART;VALUE=DATE:20260220
DTEND;VALUE=DATE:20260224
SUMMARY:Weekend Trip to Santa Rosa
END:VEVENT
BEGIN:VEVENT
DTSTAMP:20260307T065234Z
UID:1772851076876-29664@ical.marudot.com
DTSTART;VALUE=DATE:20260225
DTEND;VALUE=DATE:20260226
SUMMARY:Quartering soldiers
DESCRIPTION:CSIS\, when all is said and done\, this is a joke
LOCATION:The Visitors
END:VEVENT
BEGIN:VEVENT
DTSTAMP:20260307T065234Z
UID:1772850534010-30909@ical.marudot.com
DTSTART;TZID=America/Toronto:20260302T130000
DTEND;TZID=America/Toronto:20260302T160000
SUMMARY:Mamma Mia\, itsa PASTA TIME
END:VEVENT
BEGIN:VEVENT
DTSTAMP:20260307T065234Z
UID:1772850713145-85557@ical.marudot.com
DTSTART;TZID=America/Toronto:20260311T140000
DTEND;TZID=America/Toronto:20260311T163000
SUMMARY:VOLLEYBALL. The winner takes it all!!!
LOCATION:Super Trouper
END:VEVENT
BEGIN:VEVENT
DTSTAMP:20260307T065234Z
UID:1772851122975-38086@ical.marudot.com
DTSTART;TZID=America/Toronto:20260316T200000
DTEND;TZID=America/Toronto:20260316T233000
SUMMARY:Drinks with Angeleyes <3
LOCATION:Voulez-Vous
END:VEVENT
BEGIN:VEVENT
DTSTAMP:20260307T065234Z
UID:1772850671258-49229@ical.marudot.com
DTSTART;TZID=America/Toronto:20260320T120000
DTEND;TZID=America/Toronto:20260320T123000
SUMMARY:Call with Elaine
LOCATION:Super Trouper
END:VEVENT
BEGIN:VEVENT
DTSTAMP:20260307T065234Z
UID:1772850577957-76988@ical.marudot.com
DTSTART;VALUE=DATE:20260321
DTEND;VALUE=DATE:20260322
SUMMARY:Waterloo\, couldn't escape if I wanted to
LOCATION:Waterloo
END:VEVENT
BEGIN:VEVENT
DTSTAMP:20260307T065234Z
UID:1772850598667-91715@ical.marudot.com
DTSTART;VALUE=DATE:20260322
DTEND;VALUE=DATE:20260323
SUMMARY:Waterloo\, knowing my fate is to be with you
LOCATION:Waterloo
END:VEVENT
END:VCALENDAR